BEGIN:VCALENDAR
VERSION:2.0
PRODID:-//Louisville Pride Foundation - ECPv6.15.10//NONSGML v1.0//EN
CALSCALE:GREGORIAN
METHOD:PUBLISH
X-WR-CALNAME:Louisville Pride Foundation
X-ORIGINAL-URL:https://louprideky.org
X-WR-CALDESC:Events for Louisville Pride Foundation
REFRESH-INTERVAL;VALUE=DURATION:PT1H
X-Robots-Tag:noindex
X-PUBLISHED-TTL:PT1H
BEGIN:VTIMEZONE
TZID:America/Kentucky/Louisville
BEGIN:DAYLIGHT
TZOFFSETFROM:-0500
TZOFFSETTO:-0400
TZNAME:EDT
DTSTART:20250309T070000
END:DAYLIGHT
BEGIN:STANDARD
TZOFFSETFROM:-0400
TZOFFSETTO:-0500
TZNAME:EST
DTSTART:20251102T060000
END:STANDARD
BEGIN:DAYLIGHT
TZOFFSETFROM:-0500
TZOFFSETTO:-0400
TZNAME:EDT
DTSTART:20260308T070000
END:DAYLIGHT
BEGIN:STANDARD
TZOFFSETFROM:-0400
TZOFFSETTO:-0500
TZNAME:EST
DTSTART:20261101T060000
END:STANDARD
BEGIN:DAYLIGHT
TZOFFSETFROM:-0500
TZOFFSETTO:-0400
TZNAME:EDT
DTSTART:20270314T070000
END:DAYLIGHT
BEGIN:STANDARD
TZOFFSETFROM:-0400
TZOFFSETTO:-0500
TZNAME:EST
DTSTART:20271107T060000
END:STANDARD
END:VTIMEZONE
BEGIN:VEVENT
DTSTART;TZID=America/Kentucky/Louisville:20260101T180000
DTEND;TZID=America/Kentucky/Louisville:20260101T193000
DTSTAMP:20260424T234614
CREATED:20240430T185720Z
LAST-MODIFIED:20240430T185720Z
UID:23058-1767290400-1767295800@louprideky.org
SUMMARY:Board Game Night
DESCRIPTION:Join us for Board Game Night\, games and refreshments provided by LPF. Bring a friend\, or come make one! First Thursday of each month.
URL:https://louprideky.org/event/game-board-night-2026-01-01/
CATEGORIES:Center Events,Featured
END:VEVENT
BEGIN:VEVENT
DTSTART;TZID=America/Kentucky/Louisville:20260113T190000
DTEND;TZID=America/Kentucky/Louisville:20260113T203000
DTSTAMP:20260424T234614
CREATED:20240430T185509Z
LAST-MODIFIED:20240430T185509Z
UID:21060-1768330800-1768336200@louprideky.org
SUMMARY:Book Club
DESCRIPTION:Join us for our monthly book club meeting the second Tuesday of each month at 7:00 PM. Visit the Book Club Instagram to learn more!
URL:https://louprideky.org/event/book-club-2-2026-01-13/
CATEGORIES:Center Events,Featured
END:VEVENT
END:VCALENDAR