BEGIN:VCALENDAR
VERSION:2.0
PRODID:-//Louisville Pride Foundation - ECPv6.15.10//NONSGML v1.0//EN
CALSCALE:GREGORIAN
METHOD:PUBLISH
X-ORIGINAL-URL:https://louprideky.org
X-WR-CALDESC:Events for Louisville Pride Foundation
REFRESH-INTERVAL;VALUE=DURATION:PT1H
X-Robots-Tag:noindex
X-PUBLISHED-TTL:PT1H
BEGIN:VTIMEZONE
TZID:America/Kentucky/Louisville
BEGIN:DAYLIGHT
TZOFFSETFROM:-0500
TZOFFSETTO:-0400
TZNAME:EDT
DTSTART:20230312T070000
END:DAYLIGHT
BEGIN:STANDARD
TZOFFSETFROM:-0400
TZOFFSETTO:-0500
TZNAME:EST
DTSTART:20231105T060000
END:STANDARD
BEGIN:DAYLIGHT
TZOFFSETFROM:-0500
TZOFFSETTO:-0400
TZNAME:EDT
DTSTART:20240310T070000
END:DAYLIGHT
BEGIN:STANDARD
TZOFFSETFROM:-0400
TZOFFSETTO:-0500
TZNAME:EST
DTSTART:20241103T060000
END:STANDARD
BEGIN:DAYLIGHT
TZOFFSETFROM:-0500
TZOFFSETTO:-0400
TZNAME:EDT
DTSTART:20250309T070000
END:DAYLIGHT
BEGIN:STANDARD
TZOFFSETFROM:-0400
TZOFFSETTO:-0500
TZNAME:EST
DTSTART:20251102T060000
END:STANDARD
BEGIN:DAYLIGHT
TZOFFSETFROM:-0500
TZOFFSETTO:-0400
TZNAME:EDT
DTSTART:20260308T070000
END:DAYLIGHT
BEGIN:STANDARD
TZOFFSETFROM:-0400
TZOFFSETTO:-0500
TZNAME:EST
DTSTART:20261101T060000
END:STANDARD
END:VTIMEZONE
BEGIN:VEVENT
DTSTART;TZID=America/Kentucky/Louisville:20251111T190000
DTEND;TZID=America/Kentucky/Louisville:20251111T203000
DTSTAMP:20260424T234921
CREATED:20240430T185509Z
LAST-MODIFIED:20240430T185509Z
UID:21058-1762887600-1762893000@louprideky.org
SUMMARY:Book Club
DESCRIPTION:Join us for our monthly book club meeting the second Tuesday of each month at 7:00 PM. Visit the Book Club Instagram to learn more!
URL:https://louprideky.org/event/book-club-2-2025-11-11/
CATEGORIES:Center Events,Featured
END:VEVENT
BEGIN:VEVENT
DTSTART;TZID=America/Kentucky/Louisville:20251106T180000
DTEND;TZID=America/Kentucky/Louisville:20251106T193000
DTSTAMP:20260424T234921
CREATED:20240430T185720Z
LAST-MODIFIED:20240430T185720Z
UID:23056-1762452000-1762457400@louprideky.org
SUMMARY:Board Game Night
DESCRIPTION:Join us for Board Game Night\, games and refreshments provided by LPF. Bring a friend\, or come make one! First Thursday of each month.
URL:https://louprideky.org/event/game-board-night-2025-11-06/
CATEGORIES:Center Events,Featured
END:VEVENT
BEGIN:VEVENT
DTSTART;TZID=America/Kentucky/Louisville:20251014T190000
DTEND;TZID=America/Kentucky/Louisville:20251014T203000
DTSTAMP:20260424T234921
CREATED:20240430T185509Z
LAST-MODIFIED:20240430T185509Z
UID:21057-1760468400-1760473800@louprideky.org
SUMMARY:Book Club
DESCRIPTION:Join us for our monthly book club meeting the second Tuesday of each month at 7:00 PM. Visit the Book Club Instagram to learn more!
URL:https://louprideky.org/event/book-club-2-2025-10-14/
CATEGORIES:Center Events,Featured
END:VEVENT
BEGIN:VEVENT
DTSTART;TZID=America/Kentucky/Louisville:20251002T180000
DTEND;TZID=America/Kentucky/Louisville:20251002T193000
DTSTAMP:20260424T234921
CREATED:20240430T185720Z
LAST-MODIFIED:20240430T185720Z
UID:23055-1759428000-1759433400@louprideky.org
SUMMARY:Board Game Night
DESCRIPTION:Join us for Board Game Night\, games and refreshments provided by LPF. Bring a friend\, or come make one! First Thursday of each month.
URL:https://louprideky.org/event/game-board-night-2025-10-02/
CATEGORIES:Center Events,Featured
END:VEVENT
BEGIN:VEVENT
DTSTART;TZID=America/Kentucky/Louisville:20250909T190000
DTEND;TZID=America/Kentucky/Louisville:20250909T203000
DTSTAMP:20260424T234921
CREATED:20240430T185509Z
LAST-MODIFIED:20240430T185509Z
UID:21056-1757444400-1757449800@louprideky.org
SUMMARY:Book Club
DESCRIPTION:Join us for our monthly book club meeting the second Tuesday of each month at 7:00 PM. Visit the Book Club Instagram to learn more!
URL:https://louprideky.org/event/book-club-2-2025-09-09/
CATEGORIES:Center Events,Featured
END:VEVENT
BEGIN:VEVENT
DTSTART;TZID=America/Kentucky/Louisville:20250904T180000
DTEND;TZID=America/Kentucky/Louisville:20250904T193000
DTSTAMP:20260424T234921
CREATED:20240430T185720Z
LAST-MODIFIED:20240430T185720Z
UID:23054-1757008800-1757014200@louprideky.org
SUMMARY:Board Game Night
DESCRIPTION:Join us for Board Game Night\, games and refreshments provided by LPF. Bring a friend\, or come make one! First Thursday of each month.
URL:https://louprideky.org/event/game-board-night-2025-09-04/
CATEGORIES:Center Events,Featured
END:VEVENT
BEGIN:VEVENT
DTSTART;TZID=America/Kentucky/Louisville:20250812T190000
DTEND;TZID=America/Kentucky/Louisville:20250812T203000
DTSTAMP:20260424T234921
CREATED:20240430T185509Z
LAST-MODIFIED:20240430T185509Z
UID:21055-1755025200-1755030600@louprideky.org
SUMMARY:Book Club
DESCRIPTION:Join us for our monthly book club meeting the second Tuesday of each month at 7:00 PM. Visit the Book Club Instagram to learn more!
URL:https://louprideky.org/event/book-club-2-2025-08-12/
CATEGORIES:Center Events,Featured
END:VEVENT
BEGIN:VEVENT
DTSTART;TZID=America/Kentucky/Louisville:20250807T180000
DTEND;TZID=America/Kentucky/Louisville:20250807T193000
DTSTAMP:20260424T234921
CREATED:20240430T185720Z
LAST-MODIFIED:20240430T185720Z
UID:23053-1754589600-1754595000@louprideky.org
SUMMARY:Board Game Night
DESCRIPTION:Join us for Board Game Night\, games and refreshments provided by LPF. Bring a friend\, or come make one! First Thursday of each month.
URL:https://louprideky.org/event/game-board-night-2025-08-07/
CATEGORIES:Center Events,Featured
END:VEVENT
BEGIN:VEVENT
DTSTART;TZID=America/Kentucky/Louisville:20250708T190000
DTEND;TZID=America/Kentucky/Louisville:20250708T203000
DTSTAMP:20260424T234921
CREATED:20240430T185509Z
LAST-MODIFIED:20240430T185509Z
UID:21054-1752001200-1752006600@louprideky.org
SUMMARY:Book Club
DESCRIPTION:Join us for our monthly book club meeting the second Tuesday of each month at 7:00 PM. Visit the Book Club Instagram to learn more!
URL:https://louprideky.org/event/book-club-2-2025-07-08/
CATEGORIES:Center Events,Featured
END:VEVENT
BEGIN:VEVENT
DTSTART;TZID=America/Kentucky/Louisville:20250703T180000
DTEND;TZID=America/Kentucky/Louisville:20250703T193000
DTSTAMP:20260424T234921
CREATED:20240430T185720Z
LAST-MODIFIED:20240430T185720Z
UID:23052-1751565600-1751571000@louprideky.org
SUMMARY:Board Game Night
DESCRIPTION:Join us for Board Game Night\, games and refreshments provided by LPF. Bring a friend\, or come make one! First Thursday of each month.
URL:https://louprideky.org/event/game-board-night-2025-07-03/
CATEGORIES:Center Events,Featured
END:VEVENT
BEGIN:VEVENT
DTSTART;TZID=America/Kentucky/Louisville:20250610T190000
DTEND;TZID=America/Kentucky/Louisville:20250610T203000
DTSTAMP:20260424T234921
CREATED:20240430T185509Z
LAST-MODIFIED:20240430T185509Z
UID:21053-1749582000-1749587400@louprideky.org
SUMMARY:Book Club
DESCRIPTION:Join us for our monthly book club meeting the second Tuesday of each month at 7:00 PM. Visit the Book Club Instagram to learn more!
URL:https://louprideky.org/event/book-club-2-2025-06-10/
CATEGORIES:Center Events,Featured
END:VEVENT
BEGIN:VEVENT
DTSTART;TZID=America/Kentucky/Louisville:20250605T180000
DTEND;TZID=America/Kentucky/Louisville:20250605T193000
DTSTAMP:20260424T234921
CREATED:20240430T185720Z
LAST-MODIFIED:20240430T185720Z
UID:23051-1749146400-1749151800@louprideky.org
SUMMARY:Board Game Night
DESCRIPTION:Join us for Board Game Night\, games and refreshments provided by LPF. Bring a friend\, or come make one! First Thursday of each month.
URL:https://louprideky.org/event/game-board-night-2025-06-05/
CATEGORIES:Center Events,Featured
END:VEVENT
BEGIN:VEVENT
DTSTART;TZID=America/Kentucky/Louisville:20250513T190000
DTEND;TZID=America/Kentucky/Louisville:20250513T203000
DTSTAMP:20260424T234921
CREATED:20240430T185509Z
LAST-MODIFIED:20240430T185509Z
UID:21052-1747162800-1747168200@louprideky.org
SUMMARY:Book Club
DESCRIPTION:Join us for our monthly book club meeting the second Tuesday of each month at 7:00 PM. Visit the Book Club Instagram to learn more!
URL:https://louprideky.org/event/book-club-2-2025-05-13/
CATEGORIES:Center Events,Featured
END:VEVENT
BEGIN:VEVENT
DTSTART;TZID=America/Kentucky/Louisville:20250501T180000
DTEND;TZID=America/Kentucky/Louisville:20250501T193000
DTSTAMP:20260424T234921
CREATED:20240430T185720Z
LAST-MODIFIED:20240430T185720Z
UID:23050-1746122400-1746127800@louprideky.org
SUMMARY:Board Game Night
DESCRIPTION:Join us for Board Game Night\, games and refreshments provided by LPF. Bring a friend\, or come make one! First Thursday of each month.
URL:https://louprideky.org/event/game-board-night-2025-05-01/
CATEGORIES:Center Events,Featured
END:VEVENT
BEGIN:VEVENT
DTSTART;TZID=America/Kentucky/Louisville:20250408T190000
DTEND;TZID=America/Kentucky/Louisville:20250408T203000
DTSTAMP:20260424T234921
CREATED:20240430T185509Z
LAST-MODIFIED:20240430T185509Z
UID:21051-1744138800-1744144200@louprideky.org
SUMMARY:Book Club
DESCRIPTION:Join us for our monthly book club meeting the second Tuesday of each month at 7:00 PM. Visit the Book Club Instagram to learn more!
URL:https://louprideky.org/event/book-club-2-2025-04-08/
CATEGORIES:Center Events,Featured
END:VEVENT
BEGIN:VEVENT
DTSTART;TZID=America/Kentucky/Louisville:20250403T180000
DTEND;TZID=America/Kentucky/Louisville:20250403T193000
DTSTAMP:20260424T234921
CREATED:20240430T185720Z
LAST-MODIFIED:20240430T185720Z
UID:23049-1743703200-1743708600@louprideky.org
SUMMARY:Board Game Night
DESCRIPTION:Join us for Board Game Night\, games and refreshments provided by LPF. Bring a friend\, or come make one! First Thursday of each month.
URL:https://louprideky.org/event/game-board-night-2025-04-03/
CATEGORIES:Center Events,Featured
END:VEVENT
BEGIN:VEVENT
DTSTART;TZID=America/Kentucky/Louisville:20250311T190000
DTEND;TZID=America/Kentucky/Louisville:20250311T203000
DTSTAMP:20260424T234921
CREATED:20240430T185509Z
LAST-MODIFIED:20240430T185509Z
UID:21050-1741719600-1741725000@louprideky.org
SUMMARY:Book Club
DESCRIPTION:Join us for our monthly book club meeting the second Tuesday of each month at 7:00 PM. Visit the Book Club Instagram to learn more!
URL:https://louprideky.org/event/book-club-2-2025-03-11/
CATEGORIES:Center Events,Featured
END:VEVENT
BEGIN:VEVENT
DTSTART;TZID=America/Kentucky/Louisville:20250306T180000
DTEND;TZID=America/Kentucky/Louisville:20250306T193000
DTSTAMP:20260424T234921
CREATED:20240430T185720Z
LAST-MODIFIED:20240430T185720Z
UID:23048-1741284000-1741289400@louprideky.org
SUMMARY:Board Game Night
DESCRIPTION:Join us for Board Game Night\, games and refreshments provided by LPF. Bring a friend\, or come make one! First Thursday of each month.
URL:https://louprideky.org/event/game-board-night-2025-03-06/
CATEGORIES:Center Events,Featured
END:VEVENT
BEGIN:VEVENT
DTSTART;TZID=America/Kentucky/Louisville:20250211T190000
DTEND;TZID=America/Kentucky/Louisville:20250211T203000
DTSTAMP:20260424T234921
CREATED:20240430T185509Z
LAST-MODIFIED:20240430T185509Z
UID:21049-1739300400-1739305800@louprideky.org
SUMMARY:Book Club
DESCRIPTION:Join us for our monthly book club meeting the second Tuesday of each month at 7:00 PM. Visit the Book Club Instagram to learn more!
URL:https://louprideky.org/event/book-club-2-2025-02-11/
CATEGORIES:Center Events,Featured
END:VEVENT
BEGIN:VEVENT
DTSTART;TZID=America/Kentucky/Louisville:20250206T180000
DTEND;TZID=America/Kentucky/Louisville:20250206T193000
DTSTAMP:20260424T234921
CREATED:20240430T185720Z
LAST-MODIFIED:20240430T185720Z
UID:23047-1738864800-1738870200@louprideky.org
SUMMARY:Board Game Night
DESCRIPTION:Join us for Board Game Night\, games and refreshments provided by LPF. Bring a friend\, or come make one! First Thursday of each month.
URL:https://louprideky.org/event/game-board-night-2025-02-06/
CATEGORIES:Center Events,Featured
END:VEVENT
BEGIN:VEVENT
DTSTART;TZID=America/Kentucky/Louisville:20250114T190000
DTEND;TZID=America/Kentucky/Louisville:20250114T203000
DTSTAMP:20260424T234921
CREATED:20240430T185509Z
LAST-MODIFIED:20240430T185509Z
UID:21048-1736881200-1736886600@louprideky.org
SUMMARY:Book Club
DESCRIPTION:Join us for our monthly book club meeting the second Tuesday of each month at 7:00 PM. Visit the Book Club Instagram to learn more!
URL:https://louprideky.org/event/book-club-2-2025-01-14/
CATEGORIES:Center Events,Featured
END:VEVENT
BEGIN:VEVENT
DTSTART;TZID=America/Kentucky/Louisville:20250102T180000
DTEND;TZID=America/Kentucky/Louisville:20250102T193000
DTSTAMP:20260424T234921
CREATED:20240430T185720Z
LAST-MODIFIED:20240430T185720Z
UID:23046-1735840800-1735846200@louprideky.org
SUMMARY:Board Game Night
DESCRIPTION:Join us for Board Game Night\, games and refreshments provided by LPF. Bring a friend\, or come make one! First Thursday of each month.
URL:https://louprideky.org/event/game-board-night-2025-01-02/
CATEGORIES:Center Events,Featured
END:VEVENT
BEGIN:VEVENT
DTSTART;TZID=America/Kentucky/Louisville:20241210T190000
DTEND;TZID=America/Kentucky/Louisville:20241210T203000
DTSTAMP:20260424T234921
CREATED:20240430T185509Z
LAST-MODIFIED:20240430T185509Z
UID:21047-1733857200-1733862600@louprideky.org
SUMMARY:Book Club
DESCRIPTION:Join us for our monthly book club meeting the second Tuesday of each month at 7:00 PM. Visit the Book Club Instagram to learn more!
URL:https://louprideky.org/event/book-club-2-2024-12-10/
CATEGORIES:Center Events,Featured
END:VEVENT
BEGIN:VEVENT
DTSTART;TZID=America/Kentucky/Louisville:20241205T180000
DTEND;TZID=America/Kentucky/Louisville:20241205T193000
DTSTAMP:20260424T234921
CREATED:20240430T185720Z
LAST-MODIFIED:20240430T185720Z
UID:23045-1733421600-1733427000@louprideky.org
SUMMARY:Board Game Night
DESCRIPTION:Join us for Board Game Night\, games and refreshments provided by LPF. Bring a friend\, or come make one! First Thursday of each month.
URL:https://louprideky.org/event/game-board-night-2024-12-05/
CATEGORIES:Center Events,Featured
END:VEVENT
BEGIN:VEVENT
DTSTART;TZID=America/Kentucky/Louisville:20241112T190000
DTEND;TZID=America/Kentucky/Louisville:20241112T203000
DTSTAMP:20260424T234921
CREATED:20240430T185509Z
LAST-MODIFIED:20240430T185509Z
UID:21046-1731438000-1731443400@louprideky.org
SUMMARY:Book Club
DESCRIPTION:Join us for our monthly book club meeting the second Tuesday of each month at 7:00 PM. Visit the Book Club Instagram to learn more!
URL:https://louprideky.org/event/book-club-2-2024-11-12/
CATEGORIES:Center Events,Featured
END:VEVENT
BEGIN:VEVENT
DTSTART;TZID=America/Kentucky/Louisville:20241107T180000
DTEND;TZID=America/Kentucky/Louisville:20241107T193000
DTSTAMP:20260424T234921
CREATED:20240430T185720Z
LAST-MODIFIED:20240430T185720Z
UID:23044-1731002400-1731007800@louprideky.org
SUMMARY:Board Game Night
DESCRIPTION:Join us for Board Game Night\, games and refreshments provided by LPF. Bring a friend\, or come make one! First Thursday of each month.
URL:https://louprideky.org/event/game-board-night-2024-11-07/
CATEGORIES:Center Events,Featured
END:VEVENT
BEGIN:VEVENT
DTSTART;TZID=America/Kentucky/Louisville:20241008T190000
DTEND;TZID=America/Kentucky/Louisville:20241008T203000
DTSTAMP:20260424T234921
CREATED:20240430T185509Z
LAST-MODIFIED:20240430T185509Z
UID:21045-1728414000-1728419400@louprideky.org
SUMMARY:Book Club
DESCRIPTION:Join us for our monthly book club meeting the second Tuesday of each month at 7:00 PM. Visit the Book Club Instagram to learn more!
URL:https://louprideky.org/event/book-club-2-2024-10-08/
CATEGORIES:Center Events,Featured
END:VEVENT
BEGIN:VEVENT
DTSTART;TZID=America/Kentucky/Louisville:20241003T180000
DTEND;TZID=America/Kentucky/Louisville:20241003T193000
DTSTAMP:20260424T234921
CREATED:20240430T185720Z
LAST-MODIFIED:20240430T185720Z
UID:23043-1727978400-1727983800@louprideky.org
SUMMARY:Board Game Night
DESCRIPTION:Join us for Board Game Night\, games and refreshments provided by LPF. Bring a friend\, or come make one! First Thursday of each month.
URL:https://louprideky.org/event/game-board-night-2024-10-03/
CATEGORIES:Center Events,Featured
END:VEVENT
BEGIN:VEVENT
DTSTART;TZID=America/Kentucky/Louisville:20240910T190000
DTEND;TZID=America/Kentucky/Louisville:20240910T203000
DTSTAMP:20260424T234921
CREATED:20240430T185509Z
LAST-MODIFIED:20240430T185509Z
UID:21044-1725994800-1726000200@louprideky.org
SUMMARY:Book Club
DESCRIPTION:Join us for our monthly book club meeting the second Tuesday of each month at 7:00 PM. Visit the Book Club Instagram to learn more!
URL:https://louprideky.org/event/book-club-2-2024-09-10/
CATEGORIES:Center Events,Featured
END:VEVENT
BEGIN:VEVENT
DTSTART;TZID=America/Kentucky/Louisville:20240905T180000
DTEND;TZID=America/Kentucky/Louisville:20240905T193000
DTSTAMP:20260424T234921
CREATED:20240430T185720Z
LAST-MODIFIED:20240430T185720Z
UID:23042-1725559200-1725564600@louprideky.org
SUMMARY:Board Game Night
DESCRIPTION:Join us for Board Game Night\, games and refreshments provided by LPF. Bring a friend\, or come make one! First Thursday of each month.
URL:https://louprideky.org/event/game-board-night-2024-09-05/
CATEGORIES:Center Events,Featured
END:VEVENT
END:VCALENDAR