BEGIN:VCALENDAR
VERSION:2.0
PRODID:-//Louisville Pride Foundation - ECPv6.15.10//NONSGML v1.0//EN
CALSCALE:GREGORIAN
METHOD:PUBLISH
X-ORIGINAL-URL:https://louprideky.org
X-WR-CALDESC:Events for Louisville Pride Foundation
REFRESH-INTERVAL;VALUE=DURATION:PT1H
X-Robots-Tag:noindex
X-PUBLISHED-TTL:PT1H
BEGIN:VTIMEZONE
TZID:America/Kentucky/Louisville
BEGIN:DAYLIGHT
TZOFFSETFROM:-0500
TZOFFSETTO:-0400
TZNAME:EDT
DTSTART:20200308T070000
END:DAYLIGHT
BEGIN:STANDARD
TZOFFSETFROM:-0400
TZOFFSETTO:-0500
TZNAME:EST
DTSTART:20201101T060000
END:STANDARD
BEGIN:DAYLIGHT
TZOFFSETFROM:-0500
TZOFFSETTO:-0400
TZNAME:EDT
DTSTART:20210314T070000
END:DAYLIGHT
BEGIN:STANDARD
TZOFFSETFROM:-0400
TZOFFSETTO:-0500
TZNAME:EST
DTSTART:20211107T060000
END:STANDARD
BEGIN:DAYLIGHT
TZOFFSETFROM:-0500
TZOFFSETTO:-0400
TZNAME:EDT
DTSTART:20220313T070000
END:DAYLIGHT
BEGIN:STANDARD
TZOFFSETFROM:-0400
TZOFFSETTO:-0500
TZNAME:EST
DTSTART:20221106T060000
END:STANDARD
BEGIN:DAYLIGHT
TZOFFSETFROM:-0500
TZOFFSETTO:-0400
TZNAME:EDT
DTSTART:20230312T070000
END:DAYLIGHT
BEGIN:STANDARD
TZOFFSETFROM:-0400
TZOFFSETTO:-0500
TZNAME:EST
DTSTART:20231105T060000
END:STANDARD
END:VTIMEZONE
BEGIN:VEVENT
DTSTART;TZID=America/Kentucky/Louisville:20220518T173000
DTEND;TZID=America/Kentucky/Louisville:20220518T190000
DTSTAMP:20260424T225046
CREATED:20220506T204646Z
LAST-MODIFIED:20220506T204646Z
UID:17625-1652895000-1652900400@louprideky.org
SUMMARY:Family & Children's Place Ambassador Recruiting Event
DESCRIPTION:Are you a young professional looking for philanthropic nonprofit board experience?  Come to the Family & Children’s Place Ambassador Recruiting Event at Monnik Beer Co. in Louisville on May 18th from 5:30 – 7:00.  Talk to current and former Ambassadors about their experience; learn about Family & Children’s Place and what it means to be an Ambassador; network with other young professionals in our community.  Free appetizers; cash bar.  RSVP by emailing: kmillwood@famchildplace.org.
URL:https://louprideky.org/event/family-childrens-place-ambassador-recruiting-event/
LOCATION:Monnik Beer Co.\, 1036 E. Burnett Avenue\, Louisville\, KY\, 40217\, United States
CATEGORIES:Network
ATTACH;FMTTYPE=image/png:https://louprideky.org/wp-content/uploads/2022/05/Ambassador-Recruiting-Event-Flyer-5.18.22.png
ORGANIZER;CN="Family &amp%3Bamp%3B Children's Place":MAILTO:kmillwood@famchildplace.org
END:VEVENT
BEGIN:VEVENT
DTSTART;TZID=America/Kentucky/Louisville:20210805T170000
DTEND;TZID=America/Kentucky/Louisville:20210805T190000
DTSTAMP:20260424T225046
CREATED:20210715T014956Z
LAST-MODIFIED:20210715T014956Z
UID:16768-1628182800-1628190000@louprideky.org
SUMMARY:CIVITAS and Friends Cocktail Event
DESCRIPTION:Join us for an evening of drinks\, snacks\, and networking! \nHello Everyone!\nStay tuned for more details on this event\, but please save the date. This cocktail event will serve the purpose of connecting with Louisville Based corporations. We encourage you to invite any contacts you may have within local corporations. We also encourage you to invite folks in LGBTQ+ ERG groups.  \nWe will be sending out more information as the event day gets closer.  \nPLEASE SAVE DATE
URL:https://louprideky.org/event/civitas-and-friends-cocktail-event/
LOCATION:2235 Frankfort Avenue\, 2235 Frankfort Avenue\, Louisville\, KY\, 40206\, United States
CATEGORIES:Network
END:VEVENT
BEGIN:VEVENT
DTSTART;TZID=America/Kentucky/Louisville:20210316T160000
DTEND;TZID=America/Kentucky/Louisville:20210316T170000
DTSTAMP:20260424T225046
CREATED:20210219T215836Z
LAST-MODIFIED:20210219T215935Z
UID:16027-1615910400-1615914000@louprideky.org
SUMMARY:LGBTQ+ Community Response Network Call
DESCRIPTION:Monthly call to share for groups that serve the LGBTQ+ community to share resources and information. \nLink to join call: https://zoom.us/j/95382565973
URL:https://louprideky.org/event/lgbtq-community-response-network-call/
LOCATION:Zoom
CATEGORIES:Network
END:VEVENT
END:VCALENDAR